BEGIN:VCALENDAR
VERSION:2.0
PRODID:icalendar-ruby
CALSCALE:GREGORIAN
METHOD:PUBLISH
BEGIN:VEVENT
DTSTAMP:20260425T110409Z
UID:44-819531@woli.church
DTSTART:20261004T180000Z
DTEND:20261004T193000Z
CLASS:PUBLIC
CREATED:20260424T215944
DESCRIPTION:Thi service is conducted in Urdu.
LAST-MODIFIED:20260424T215944
LOCATION:Word of Life International Church
SUMMARY:South Asia Service
URL;VALUE=URI:https://woli.church/events/south-asia-service/2026-10-04
END:VEVENT
END:VCALENDAR
