BEGIN:VCALENDAR
VERSION:2.0
PRODID:icalendar-ruby
CALSCALE:GREGORIAN
METHOD:PUBLISH
BEGIN:VEVENT
DTSTAMP:20260425T124703Z
UID:44-820229@woli.church
DTSTART:20261011T180000Z
DTEND:20261011T193000Z
CLASS:PUBLIC
CREATED:20260425T074543
DESCRIPTION:Thi service is conducted in Urdu.
LAST-MODIFIED:20260425T074543
LOCATION:Word of Life International Church
SUMMARY:South Asia Service
URL;VALUE=URI:https://woli.church/events/south-asia-service/2026-10-11
END:VEVENT
END:VCALENDAR
