BEGIN:VCALENDAR
VERSION:2.0
PRODID:icalendar-ruby
CALSCALE:GREGORIAN
METHOD:PUBLISH
BEGIN:VEVENT
DTSTAMP:20260425T161651Z
UID:44-820928@woli.church
DTSTART:20261025T180000Z
DTEND:20261025T193000Z
CLASS:PUBLIC
CREATED:20260425T102655
DESCRIPTION:Thi service is conducted in Urdu.
LAST-MODIFIED:20260425T102655
LOCATION:Word of Life International Church
SUMMARY:South Asia Service
URL;VALUE=URI:https://woli.church/events/south-asia-service/2026-10-25
END:VEVENT
END:VCALENDAR
