BEGIN:VCALENDAR
VERSION:2.0
PRODID:icalendar-ruby
CALSCALE:GREGORIAN
METHOD:PUBLISH
BEGIN:VEVENT
DTSTAMP:20260425T180509Z
UID:44-821626@woli.church
DTSTART:20261101T190000Z
DTEND:20261101T203000Z
CLASS:PUBLIC
CREATED:20260425T130710
DESCRIPTION:Thi service is conducted in Urdu.
LAST-MODIFIED:20260425T130710
LOCATION:Word of Life International Church
SUMMARY:South Asia Service
URL;VALUE=URI:https://woli.church/events/south-asia-service/2026-11-01
END:VEVENT
END:VCALENDAR
