BEGIN:VCALENDAR
VERSION:2.0
PRODID:icalendar-ruby
CALSCALE:GREGORIAN
METHOD:PUBLISH
BEGIN:VEVENT
DTSTAMP:20260422T080218Z
UID:163-787720@woli.church
DTSTART;VALUE=DATE:20260619
DTEND;VALUE=DATE:20260621
CLASS:PUBLIC
CREATED:20260417T113120
DESCRIPTION:Join us Friday\, Saturday\, and Sunday as we celebrate 25 years
  of ministry at Word of Life. 
LAST-MODIFIED:20260417T113120
LOCATION:Word of Life International Church
SUMMARY:The Turning
URL;VALUE=URI:https://woli.church/events/the-turning/2026-06-19
ATTACH;FILENAME=The-Turning-1.jpg;FMTTYPE=image/jpeg:https://dq5pwpg1q8ru0.
 cloudfront.net/2026/04/17/15/31/20/a5685148-2b11-4180-928c-b45c50e3f205/Th
 e-Turning-1.jpg
END:VEVENT
END:VCALENDAR
