BEGIN:VCALENDAR
VERSION:2.0
PRODID:icalendar-ruby
CALSCALE:GREGORIAN
METHOD:PUBLISH
BEGIN:VEVENT
DTSTAMP:20260422T081209Z
UID:164-787721@woli.church
DTSTART;VALUE=DATE:20260713
DTEND;VALUE=DATE:20260717
CLASS:PUBLIC
CREATED:20260417T113348
DESCRIPTION:Kids will have an amazing time and will encounter Christ in a p
 owerful way as well!
LAST-MODIFIED:20260417T113348
LOCATION:Word of Life International Church
SUMMARY:Vacation Bible School
URL;VALUE=URI:https://woli.church/events/vacation-bible-school--164/2026-07
 -13
ATTACH;FILENAME=VBS-2026.jpg;FMTTYPE=image/jpeg:https://dq5pwpg1q8ru0.cloud
 front.net/2026/04/17/15/33/48/2334eb4a-6565-45a3-a309-e795579a91c5/VBS-202
 6.jpg
END:VEVENT
END:VCALENDAR
